BEGIN:VCALENDAR
VERSION:2.0
PRODID:-//wp-events-plugin.com//6.6.3//EN
TZID:America/Los_Angeles
X-WR-TIMEZONE:America/Los_Angeles
BEGIN:VEVENT
UID:449@arcsno.org
DTSTART;TZID=America/Los_Angeles:20260512T190000
DTEND;TZID=America/Los_Angeles:20260512T200000
DTSTAMP:20260421T020941Z
URL:https://www.arcsno.org/events/russian-connect-and-support-group-2-2026
 -05-12/
SUMMARY:Russian Connect and Support Group
DESCRIPTION:[button link="https://us02web.zoom.us/j/87047054466?pwd=xOmT393
 A6x86Mdl8gIy1JjSCo15xth.1" newwindow="yes"] JOIN[/button]\n\n\n\n[button l
 ink="https://drive.google.com/drive/folders/1gJE2-a9kD8nvICkZK5l2I9ytQE2UE
 r4d?usp=drive_link" newwindow="yes"] View or Download May Fliers[/button]
CATEGORIES:Support &amp; Information
END:VEVENT
BEGIN:VTIMEZONE
TZID:America/Los_Angeles
X-LIC-LOCATION:America/Los_Angeles
BEGIN:DAYLIGHT
DTSTART:20260308T030000
TZOFFSETFROM:-0800
TZOFFSETTO:-0700
TZNAME:PDT
END:DAYLIGHT
END:VTIMEZONE
END:VCALENDAR