BEGIN:VCALENDAR
VERSION:2.0
PRODID:-//wp-events-plugin.com//6.6.3//EN
TZID:America/Los_Angeles
X-WR-TIMEZONE:America/Los_Angeles
BEGIN:VEVENT
UID:251@arcsno.org
DTSTART;TZID=America/Los_Angeles:20251028T173000
DTEND;TZID=America/Los_Angeles:20251028T193000
DTSTAMP:20250916T201253Z
URL:https://www.arcsno.org/events/fall-arts-crafts-sibshop-ages-7-12/
SUMMARY:Fall Arts & Crafts Sibshop (ages 7-12)
DESCRIPTION:[button link="https://www.arcsno.org/civicrm/event/register/?re
 set=1&amp\;id=588" newwindow="yes"] REGISTER HERE[/button]\n\n\n\n\n\n[but
 ton link="https://drive.google.com/drive/folders/1Ri8c2Xm3voKFrFkmFMAvbIYK
 v39fhJ2h?usp=drive_link" newwindow="yes"] View and Download October Fliers
 [/button]
CATEGORIES:Sibshops
END:VEVENT
BEGIN:VTIMEZONE
TZID:America/Los_Angeles
X-LIC-LOCATION:America/Los_Angeles
BEGIN:DAYLIGHT
DTSTART:20250309T030000
TZOFFSETFROM:-0800
TZOFFSETTO:-0700
TZNAME:PDT
END:DAYLIGHT
END:VTIMEZONE
END:VCALENDAR